BEGIN:VCALENDAR
VERSION:2.0
PRODID:icalendar-ruby
CALSCALE:GREGORIAN
METHOD:PUBLISH
BEGIN:VEVENT
DTSTAMP:20260423T125746Z
UID:72-786706@stmichaelandallangelslondon.ca
DTSTART:20260809T120000Z
DTEND:20260809T130000Z
CLASS:PUBLIC
CREATED:20260423T072029
DESCRIPTION:
LAST-MODIFIED:20260423T072029
LOCATION:
SUMMARY:Holy Communion
URL;VALUE=URI:https://www.stmichaelandallangelslondon.ca/events/holy-commun
 ion/2026-08-09
ATTACH;FILENAME=Sunday Services-8am.png;FMTTYPE=image/png:https://dq5pwpg1q
 8ru0.cloudfront.net/2025/12/27/00/32/32/db9d796b-6121-4e6b-945e-fd072c024e
 fb/Sunday%20Services-8am.png
END:VEVENT
END:VCALENDAR
