BEGIN:VCALENDAR
VERSION:2.0
PRODID:icalendar-ruby
CALSCALE:GREGORIAN
METHOD:PUBLISH
BEGIN:VEVENT
DTSTAMP:20260425T224036Z
UID:75-793922@stmichaelandallangelslondon.ca
DTSTART:20261018T140000Z
DTEND:20261018T150000Z
CLASS:PUBLIC
CREATED:20260425T175856
DESCRIPTION:
LAST-MODIFIED:20260425T175856
LOCATION:
SUMMARY:Holy Eucharist
URL;VALUE=URI:https://www.stmichaelandallangelslondon.ca/events/holy-euchar
 ist--75/2026-10-18
ATTACH;FILENAME=Sunday Services.jpg;FMTTYPE=image/jpeg:https://dq5pwpg1q8ru
 0.cloudfront.net/2025/12/27/00/13/43/c660dceb-034b-4cbf-9b0c-3b58b84d9a03/
 Sunday%20Services.jpg
END:VEVENT
END:VCALENDAR
